BEGIN:VCALENDAR
VERSION:2.0
PRODID:-//135.125.167.188//NONSGML kigkonsult.se iCalcreator 2.20//
CALSCALE:GREGORIAN
METHOD:PUBLISH
X-WR-TIMEZONE:Europe/Prague
BEGIN:VEVENT
UID:event117@Apartmán Na Sluneční - ubytování ve Valticích
DTSTAMP:20260421T225426Z
CATEGORIES:Kalendář rezervací
DESCRIPTION:Obsazeno\nKategorie: Kalendář rezervací\nOdkaz: https://www.nas
 lunecni.cz/index.php?option=com_jem&view=event&id=117:michal-marik-7772630
 98\n
DTSTART;VALUE=DATE:20170702
DTEND;VALUE=DATE:20170708
LOCATION:Apartmán
SUMMARY:Obsazeno
URL:https://www.naslunecni.cz/index.php?option=com_jem&view=event&id=117:mi
 chal-marik-777263098
END:VEVENT
END:VCALENDAR
