BEGIN:VCALENDAR
VERSION:2.0
PRODID:-//135.125.167.188//NONSGML kigkonsult.se iCalcreator 2.20//
CALSCALE:GREGORIAN
METHOD:PUBLISH
X-WR-TIMEZONE:Europe/Prague
BEGIN:VEVENT
UID:event119@Apartmán Na Sluneční - ubytování ve Valticích
DTSTAMP:20260421T224512Z
CATEGORIES:Kalendář rezervací
DESCRIPTION:Obsazeno\nKategorie: Kalendář rezervací\nOdkaz: https://www.nas
 lunecni.cz/index.php?option=com_jem&view=event&id=119:capova-777955546\n
DTSTART;VALUE=DATE:20170710
DTEND;VALUE=DATE:20170714
LOCATION:Apartmán
SUMMARY:Obsazeno
URL:https://www.naslunecni.cz/index.php?option=com_jem&view=event&id=119:ca
 pova-777955546
END:VEVENT
END:VCALENDAR
