BEGIN:VCALENDAR
VERSION:2.0
PRODID:-//135.125.167.188//NONSGML kigkonsult.se iCalcreator 2.20//
CALSCALE:GREGORIAN
METHOD:PUBLISH
X-WR-TIMEZONE:Europe/Prague
BEGIN:VEVENT
UID:event120@Apartmán Na Sluneční - ubytování ve Valticích
DTSTAMP:20260421T225220Z
CATEGORIES:Kalendář rezervací
DESCRIPTION:Obsazeno\nKategorie: Kalendář rezervací\nOdkaz: https://www.nas
 lunecni.cz/index.php?option=com_jem&view=event&id=120:steflova-605158747\n
DTSTART;VALUE=DATE:20170511
DTEND;VALUE=DATE:20170515
LOCATION:Apartmán
SUMMARY:Obsazeno
URL:https://www.naslunecni.cz/index.php?option=com_jem&view=event&id=120:st
 eflova-605158747
END:VEVENT
END:VCALENDAR
