BEGIN:VCALENDAR
VERSION:2.0
PRODID:-//135.125.167.188//NONSGML kigkonsult.se iCalcreator 2.20//
CALSCALE:GREGORIAN
METHOD:PUBLISH
X-WR-TIMEZONE:Europe/Prague
BEGIN:VEVENT
UID:event382@Apartmán Na Sluneční - ubytování ve Valticích
DTSTAMP:20260421T183026Z
CATEGORIES:Kalendář rezervací
DESCRIPTION:Obsazeno\nKategorie: Kalendář rezervací\nOdkaz: https://www.nas
 lunecni.cz/index.php?option=com_jem&view=event&id=382:klimesova-605766757
 \n
DTSTART;VALUE=DATE:20260508
DTEND;VALUE=DATE:20260511
LOCATION:Apartmán
SUMMARY:Obsazeno
URL:https://www.naslunecni.cz/index.php?option=com_jem&view=event&id=382:kl
 imesova-605766757
END:VEVENT
END:VCALENDAR
