BEGIN:VCALENDAR
VERSION:2.0
PRODID:-//135.125.167.188//NONSGML kigkonsult.se iCalcreator 2.20//
CALSCALE:GREGORIAN
METHOD:PUBLISH
X-WR-TIMEZONE:Europe/Prague
BEGIN:VEVENT
UID:event395@Apartmán Na Sluneční - ubytování ve Valticích
DTSTAMP:20260421T223955Z
CATEGORIES:Kalendář rezervací
DESCRIPTION:Obsazeno\nKategorie: Kalendář rezervací\nOdkaz: https://www.nas
 lunecni.cz/index.php?option=com_jem&view=event&id=395:brandejsova-77319011
 9\n
DTSTART;VALUE=DATE:20260722
DTEND;VALUE=DATE:20260726
LOCATION:Apartmán
SUMMARY:Obsazeno
URL:https://www.naslunecni.cz/index.php?option=com_jem&view=event&id=395:br
 andejsova-773190119
END:VEVENT
END:VCALENDAR
