BEGIN:VCALENDAR
VERSION:2.0
PRODID:-//135.125.167.188//NONSGML kigkonsult.se iCalcreator 2.20//
CALSCALE:GREGORIAN
METHOD:PUBLISH
X-WR-TIMEZONE:Europe/Prague
BEGIN:VEVENT
UID:event401@Apartmán Na Sluneční - ubytování ve Valticích
DTSTAMP:20260421T211752Z
CATEGORIES:Kalendář rezervací
DESCRIPTION:Obsazeno\nKategorie: Kalendář rezervací\nOdkaz: https://www.nas
 lunecni.cz/index.php?option=com_jem&view=event&id=401:krivankova-721984265
 \n
DTSTART;VALUE=DATE:20260501
DTEND;VALUE=DATE:20260505
LOCATION:Apartmán\,Czech Republic
SUMMARY:Obsazeno
URL:https://www.naslunecni.cz/index.php?option=com_jem&view=event&id=401:kr
 ivankova-721984265
END:VEVENT
BEGIN:VEVENT
UID:event382@Apartmán Na Sluneční - ubytování ve Valticích
DTSTAMP:20260421T211752Z
CATEGORIES:Kalendář rezervací
DESCRIPTION:Obsazeno\nKategorie: Kalendář rezervací\nOdkaz: https://www.nas
 lunecni.cz/index.php?option=com_jem&view=event&id=382:klimesova-605766757
 \n
DTSTART;VALUE=DATE:20260508
DTEND;VALUE=DATE:20260511
LOCATION:Apartmán\,Czech Republic
SUMMARY:Obsazeno
URL:https://www.naslunecni.cz/index.php?option=com_jem&view=event&id=382:kl
 imesova-605766757
END:VEVENT
BEGIN:VEVENT
UID:event396@Apartmán Na Sluneční - ubytování ve Valticích
DTSTAMP:20260421T211752Z
CATEGORIES:Kalendář rezervací
DESCRIPTION:Obsazeno\nKategorie: Kalendář rezervací\nOdkaz: https://www.nas
 lunecni.cz/index.php?option=com_jem&view=event&id=396:gebrlin-421-902-950-
 650\n
DTSTART;VALUE=DATE:20260515
DTEND;VALUE=DATE:20260518
LOCATION:Apartmán\,Czech Republic
SUMMARY:Obsazeno
URL:https://www.naslunecni.cz/index.php?option=com_jem&view=event&id=396:ge
 brlin-421-902-950-650
END:VEVENT
BEGIN:VEVENT
UID:event383@Apartmán Na Sluneční - ubytování ve Valticích
DTSTAMP:20260421T211752Z
CATEGORIES:Kalendář rezervací
DESCRIPTION:Obsazeno\nKategorie: Kalendář rezervací\nOdkaz: https://www.nas
 lunecni.cz/index.php?option=com_jem&view=event&id=383:palovcikova-booking
 \n
DTSTART;VALUE=DATE:20260521
DTEND;VALUE=DATE:20260525
LOCATION:Apartmán\,Czech Republic
SUMMARY:Obsazeno
URL:https://www.naslunecni.cz/index.php?option=com_jem&view=event&id=383:pa
 lovcikova-booking
END:VEVENT
BEGIN:VEVENT
UID:event407@Apartmán Na Sluneční - ubytování ve Valticích
DTSTAMP:20260421T211752Z
CATEGORIES:Kalendář rezervací
DESCRIPTION:Obsazeno\nKategorie: Kalendář rezervací\nOdkaz: https://www.nas
 lunecni.cz/index.php?option=com_jem&view=event&id=407:gajdusek-604527994\n
DTSTART;VALUE=DATE:20260529
DTEND;VALUE=DATE:20260601
LOCATION:Apartmán\,Czech Republic
SUMMARY:Obsazeno
URL:https://www.naslunecni.cz/index.php?option=com_jem&view=event&id=407:ga
 jdusek-604527994
END:VEVENT
BEGIN:VEVENT
UID:event397@Apartmán Na Sluneční - ubytování ve Valticích
DTSTAMP:20260421T211752Z
CATEGORIES:Kalendář rezervací
DESCRIPTION:Obsazeno\nKategorie: Kalendář rezervací\nOdkaz: https://www.nas
 lunecni.cz/index.php?option=com_jem&view=event&id=397:folgova-724678692\n
DTSTART;VALUE=DATE:20260605
DTEND;VALUE=DATE:20260608
LOCATION:Apartmán\,Czech Republic
SUMMARY:Obsazeno
URL:https://www.naslunecni.cz/index.php?option=com_jem&view=event&id=397:fo
 lgova-724678692
END:VEVENT
BEGIN:VEVENT
UID:event405@Apartmán Na Sluneční - ubytování ve Valticích
DTSTAMP:20260421T211752Z
CATEGORIES:Kalendář rezervací
DESCRIPTION:Obsazeno\nKategorie: Kalendář rezervací\nOdkaz: https://www.nas
 lunecni.cz/index.php?option=com_jem&view=event&id=405:nesibova-739452562\n
DTSTART;VALUE=DATE:20260612
DTEND;VALUE=DATE:20260615
LOCATION:Apartmán\,Czech Republic
SUMMARY:Obsazeno
URL:https://www.naslunecni.cz/index.php?option=com_jem&view=event&id=405:ne
 sibova-739452562
END:VEVENT
BEGIN:VEVENT
UID:event398@Apartmán Na Sluneční - ubytování ve Valticích
DTSTAMP:20260421T211752Z
CATEGORIES:Kalendář rezervací
DESCRIPTION:Obsazeno\nKategorie: Kalendář rezervací\nOdkaz: https://www.nas
 lunecni.cz/index.php?option=com_jem&view=event&id=398:beranova-774331024\n
DTSTART;VALUE=DATE:20260628
DTEND;VALUE=DATE:20260704
LOCATION:Apartmán\,Czech Republic
SUMMARY:Obsazeno
URL:https://www.naslunecni.cz/index.php?option=com_jem&view=event&id=398:be
 ranova-774331024
END:VEVENT
BEGIN:VEVENT
UID:event393@Apartmán Na Sluneční - ubytování ve Valticích
DTSTAMP:20260421T211752Z
CATEGORIES:Kalendář rezervací
DESCRIPTION:Obsazeno\nKategorie: Kalendář rezervací\nOdkaz: https://www.nas
 lunecni.cz/index.php?option=com_jem&view=event&id=393:blazkova-605047308\n
DTSTART;VALUE=DATE:20260704
DTEND;VALUE=DATE:20260713
LOCATION:Apartmán\,Czech Republic
SUMMARY:Obsazeno
URL:https://www.naslunecni.cz/index.php?option=com_jem&view=event&id=393:bl
 azkova-605047308
END:VEVENT
BEGIN:VEVENT
UID:event402@Apartmán Na Sluneční - ubytování ve Valticích
DTSTAMP:20260421T211752Z
CATEGORIES:Kalendář rezervací
DESCRIPTION:Obsazeno\nKategorie: Kalendář rezervací\nOdkaz: https://www.nas
 lunecni.cz/index.php?option=com_jem&view=event&id=402:popelkova-724612544
 \n
DTSTART;VALUE=DATE:20260718
DTEND;VALUE=DATE:20260722
LOCATION:Apartmán\,Czech Republic
SUMMARY:Obsazeno
URL:https://www.naslunecni.cz/index.php?option=com_jem&view=event&id=402:po
 pelkova-724612544
END:VEVENT
BEGIN:VEVENT
UID:event395@Apartmán Na Sluneční - ubytování ve Valticích
DTSTAMP:20260421T211752Z
CATEGORIES:Kalendář rezervací
DESCRIPTION:Obsazeno\nKategorie: Kalendář rezervací\nOdkaz: https://www.nas
 lunecni.cz/index.php?option=com_jem&view=event&id=395:brandejsova-77319011
 9\n
DTSTART;VALUE=DATE:20260722
DTEND;VALUE=DATE:20260726
LOCATION:Apartmán\,Czech Republic
SUMMARY:Obsazeno
URL:https://www.naslunecni.cz/index.php?option=com_jem&view=event&id=395:br
 andejsova-773190119
END:VEVENT
BEGIN:VEVENT
UID:event388@Apartmán Na Sluneční - ubytování ve Valticích
DTSTAMP:20260421T211752Z
CATEGORIES:Kalendář rezervací
DESCRIPTION:Obsazeno\nKategorie: Kalendář rezervací\nOdkaz: https://www.nas
 lunecni.cz/index.php?option=com_jem&view=event&id=388:havlova-725736088\n
DTSTART;VALUE=DATE:20260801
DTEND;VALUE=DATE:20260816
LOCATION:Apartmán\,Czech Republic
SUMMARY:Obsazeno
URL:https://www.naslunecni.cz/index.php?option=com_jem&view=event&id=388:ha
 vlova-725736088
END:VEVENT
BEGIN:VEVENT
UID:event406@Apartmán Na Sluneční - ubytování ve Valticích
DTSTAMP:20260421T211752Z
CATEGORIES:Kalendář rezervací
DESCRIPTION:Obsazeno\nKategorie: Kalendář rezervací\nOdkaz: https://www.nas
 lunecni.cz/index.php?option=com_jem&view=event&id=406:sverak-774217492\n
DTSTART;VALUE=DATE:20260904
DTEND;VALUE=DATE:20260907
LOCATION:Apartmán\,Czech Republic
SUMMARY:Obsazeno
URL:https://www.naslunecni.cz/index.php?option=com_jem&view=event&id=406:sv
 erak-774217492
END:VEVENT
BEGIN:VEVENT
UID:event400@Apartmán Na Sluneční - ubytování ve Valticích
DTSTAMP:20260421T211752Z
CATEGORIES:Kalendář rezervací
DESCRIPTION:Obsazeno\nKategorie: Kalendář rezervací\nOdkaz: https://www.nas
 lunecni.cz/index.php?option=com_jem&view=event&id=400:jaros-aw-olejniczak-
 48602717588\n
DTSTART;VALUE=DATE:20260906
DTEND;VALUE=DATE:20260915
LOCATION:Apartmán\,Czech Republic
SUMMARY:Obsazeno
URL:https://www.naslunecni.cz/index.php?option=com_jem&view=event&id=400:ja
 ros-aw-olejniczak-48602717588
END:VEVENT
BEGIN:VEVENT
UID:event394@Apartmán Na Sluneční - ubytování ve Valticích
DTSTAMP:20260421T211752Z
CATEGORIES:Kalendář rezervací
DESCRIPTION:Obsazeno\nKategorie: Kalendář rezervací\nOdkaz: https://www.nas
 lunecni.cz/index.php?option=com_jem&view=event&id=394:konecna-608421694\n
DTSTART;VALUE=DATE:20261002
DTEND;VALUE=DATE:20261005
LOCATION:Apartmán\,Czech Republic
SUMMARY:Obsazeno
URL:https://www.naslunecni.cz/index.php?option=com_jem&view=event&id=394:ko
 necna-608421694
END:VEVENT
END:VCALENDAR
